BEGIN:VCALENDAR
VERSION:2.0
PRODID:-//Masjid Ibrahim, Austin TX - ECPv6.15.20//NONSGML v1.0//EN
CALSCALE:GREGORIAN
METHOD:PUBLISH
X-ORIGINAL-URL:https://www.masjidibrahim.org
X-WR-CALDESC:Events for Masjid Ibrahim, Austin TX
REFRESH-INTERVAL;VALUE=DURATION:PT1H
X-Robots-Tag:noindex
X-PUBLISHED-TTL:PT1H
BEGIN:VTIMEZONE
TZID:America/Chicago
BEGIN:DAYLIGHT
TZOFFSETFROM:-0600
TZOFFSETTO:-0500
TZNAME:CDT
DTSTART:20230312T080000
END:DAYLIGHT
BEGIN:STANDARD
TZOFFSETFROM:-0500
TZOFFSETTO:-0600
TZNAME:CST
DTSTART:20231105T070000
END:STANDARD
BEGIN:DAYLIGHT
TZOFFSETFROM:-0600
TZOFFSETTO:-0500
TZNAME:CDT
DTSTART:20240310T080000
END:DAYLIGHT
BEGIN:STANDARD
TZOFFSETFROM:-0500
TZOFFSETTO:-0600
TZNAME:CST
DTSTART:20241103T070000
END:STANDARD
BEGIN:DAYLIGHT
TZOFFSETFROM:-0600
TZOFFSETTO:-0500
TZNAME:CDT
DTSTART:20250309T080000
END:DAYLIGHT
BEGIN:STANDARD
TZOFFSETFROM:-0500
TZOFFSETTO:-0600
TZNAME:CST
DTSTART:20251102T070000
END:STANDARD
BEGIN:DAYLIGHT
TZOFFSETFROM:-0600
TZOFFSETTO:-0500
TZNAME:CDT
DTSTART:20260308T080000
END:DAYLIGHT
BEGIN:STANDARD
TZOFFSETFROM:-0500
TZOFFSETTO:-0600
TZNAME:CST
DTSTART:20261101T070000
END:STANDARD
BEGIN:DAYLIGHT
TZOFFSETFROM:-0600
TZOFFSETTO:-0500
TZNAME:CDT
DTSTART:20270314T080000
END:DAYLIGHT
BEGIN:STANDARD
TZOFFSETFROM:-0500
TZOFFSETTO:-0600
TZNAME:CST
DTSTART:20271107T070000
END:STANDARD
END:VTIMEZONE
BEGIN:VEVENT
DTSTART;VALUE=DATE:20260109
DTEND;VALUE=DATE:20260111
DTSTAMP:20260423T112820
CREATED:20260104T194427Z
LAST-MODIFIED:20260104T215158Z
UID:2179-1767916800-1768089599@www.masjidibrahim.org
SUMMARY:Family and Children
DESCRIPTION:
URL:https://www.masjidibrahim.org/event/family-and-children/
LOCATION:Masjid Ibrahim\, 8521 W Highway 71\, Austin\, TX\, 78735\, United States
CATEGORIES:Community,lecture
ORGANIZER;CN="Masjid Ibrahim":MAILTO:admin@masjidibrahim.org
END:VEVENT
BEGIN:VEVENT
DTSTART;TZID=America/Chicago:20241213T194500
DTEND;TZID=America/Chicago:20241213T223000
DTSTAMP:20260423T112820
CREATED:20241211T091936Z
LAST-MODIFIED:20241211T093253Z
UID:2062-1734119100-1734129000@www.masjidibrahim.org
SUMMARY:Masjid Expansion Fundraiser : The Flowing Charity
DESCRIPTION:Click here to go the Masjid Expansion web page that gives more information and blueprints on the Expansion.
URL:https://www.masjidibrahim.org/event/masjid-expansion-fundraiser-the-flowing-charity/
LOCATION:Masjid Ibrahim\, 8521 W Highway 71\, Austin\, TX\, 78735\, United States
CATEGORIES:Community,lecture
END:VEVENT
BEGIN:VEVENT
DTSTART;TZID=America/Chicago:20240511T140000
DTEND;TZID=America/Chicago:20240511T201400
DTSTAMP:20260423T112820
CREATED:20240509T043959Z
LAST-MODIFIED:20240509T043959Z
UID:1976-1715436000-1715458440@www.masjidibrahim.org
SUMMARY:Hajj Preparation (ppt presentation)
DESCRIPTION:
URL:https://www.masjidibrahim.org/event/hajj-preparation-ppt-presentation/
LOCATION:Masjid Ibrahim\, 8521 W Highway 71\, Austin\, TX\, 78735\, United States
ORGANIZER;CN="Masjid Ibrahim":MAILTO:admin@masjidibrahim.org
END:VEVENT
BEGIN:VEVENT
DTSTART;TZID=America/Chicago:20240504T140000
DTEND;TZID=America/Chicago:20240504T170000
DTSTAMP:20260423T112820
CREATED:20240502T034754Z
LAST-MODIFIED:20240502T034754Z
UID:1973-1714831200-1714842000@www.masjidibrahim.org
SUMMARY:Hajj Preparation and Review Class
DESCRIPTION:
URL:https://www.masjidibrahim.org/event/hajj-preparation-and-review-class/
LOCATION:Masjid Ibrahim\, 8521 W Highway 71\, Austin\, TX\, 78735\, United States
CATEGORIES:Community,lecture
ORGANIZER;CN="Masjid Ibrahim":MAILTO:admin@masjidibrahim.org
END:VEVENT
BEGIN:VEVENT
DTSTART;TZID=America/Chicago:20240427T140000
DTEND;TZID=America/Chicago:20240427T170000
DTSTAMP:20260423T112820
CREATED:20240414T204205Z
LAST-MODIFIED:20240414T205549Z
UID:1959-1714226400-1714237200@www.masjidibrahim.org
SUMMARY:Hajj Preparation Class
DESCRIPTION:
URL:https://www.masjidibrahim.org/event/hajj-preparation-class/
LOCATION:Masjid Ibrahim\, 8521 W Highway 71\, Austin\, TX\, 78735\, United States
ORGANIZER;CN="Masjid Ibrahim":MAILTO:admin@masjidibrahim.org
END:VEVENT
BEGIN:VEVENT
DTSTART;TZID=America/Chicago:20240331T183000
DTEND;TZID=America/Chicago:20240331T193000
DTSTAMP:20260423T112820
CREATED:20240309T182339Z
LAST-MODIFIED:20240309T183026Z
UID:1895-1711909800-1711913400@www.masjidibrahim.org
SUMMARY:What is Ramadaan\, How do Muslims Fast ?
DESCRIPTION:
URL:https://www.masjidibrahim.org/event/what-is-ramadaan-how-do-muslims-fast/
LOCATION:Masjid Ibrahim\, 8521 W Highway 71\, Austin\, TX\, 78735\, United States
CATEGORIES:Community,Outreach
ORGANIZER;CN="Masjid Ibrahim":MAILTO:admin@masjidibrahim.org
END:VEVENT
BEGIN:VEVENT
DTSTART;TZID=America/Chicago:20240303T163000
DTEND;TZID=America/Chicago:20240303T180000
DTSTAMP:20260423T112820
CREATED:20240228T022541Z
LAST-MODIFIED:20240228T022541Z
UID:1875-1709483400-1709488800@www.masjidibrahim.org
SUMMARY:What is Islam ? \, Who are Muslims
DESCRIPTION:Masjid ibrahim\nPresents \nWhat is Islam?  Who are the Muslims? \nDate: Sunday\, March 3rd\nVenue: Masjid Ibrahim\n8521 Hwy 71 West\, Austin\, tx 78735 \nGuest arrival: 4:30 pm\nPresentation: 4:45 pm\nQ/A session: 5:00 pm \nRefreshments will be served with traditional snacks and sweets \nExhibition: Arts from Islamic world \nContact: 512-590-0913\nWww.masjidibrahim.org\nAdmin@MasjidIbrahim.org
URL:https://www.masjidibrahim.org/event/what-is-islam-who-are-muslims/
LOCATION:Masjid Ibrahim\, 8521 W Highway 71\, Austin\, TX\, 78735\, United States
CATEGORIES:Community,Outreach
ATTACH;FMTTYPE=image/jpeg:https://www.masjidibrahim.org/wp-content/uploads/2024/02/whatisislam-2024-mi.jpg
ORGANIZER;CN="Masjid Ibrahim":MAILTO:admin@masjidibrahim.org
END:VEVENT
BEGIN:VEVENT
DTSTART;TZID=America/Chicago:20240224T161500
DTEND;TZID=America/Chicago:20240225T220000
DTSTAMP:20260423T112820
CREATED:20240210T073207Z
LAST-MODIFIED:20240210T082633Z
UID:1863-1708791300-1708898400@www.masjidibrahim.org
SUMMARY:Welcoming the Month of Ramadaan
DESCRIPTION:  \nSpeaker: Shaykh. Ghassan Abdul Fattah – In Person \nSaturday\, Feb 24th\,2024 \n4:15 Asr\n4:30 to 6:30- Ramadan and zakat Workshop\n6:35 Maghrib and dinner\n7:45 Ishaa\, short session and Q & A \nSunday\, Feb 25th\,2024 \n4:15 Asr\n4:30 to 6:30- Tafseer Sura Luqman\n6:35 Maghrib and dinner\n7:45 Ishaa\, short session and Q & A
URL:https://www.masjidibrahim.org/event/welcoming-the-month-of-ramadaan/
LOCATION:Masjid Ibrahim\, 8521 W Highway 71\, Austin\, TX\, 78735\, United States
ATTACH;FMTTYPE=image/jpeg:https://www.masjidibrahim.org/wp-content/uploads/2024/02/ramadan-2024-feature.jpg
ORGANIZER;CN="Masjid Ibrahim":MAILTO:admin@masjidibrahim.org
END:VEVENT
END:VCALENDAR